BEGIN:VCALENDAR
VERSION:2.0
PRODID:-//Western Washington Coalition for Life - ECPv6.15.17//NONSGML v1.0//EN
CALSCALE:GREGORIAN
METHOD:PUBLISH
X-ORIGINAL-URL:https://www.wwcfl.org
X-WR-CALDESC:Events for Western Washington Coalition for Life
REFRESH-INTERVAL;VALUE=DURATION:PT1H
X-Robots-Tag:noindex
X-PUBLISHED-TTL:PT1H
BEGIN:VTIMEZONE
TZID:America/Los_Angeles
BEGIN:DAYLIGHT
TZOFFSETFROM:-0800
TZOFFSETTO:-0700
TZNAME:PDT
DTSTART:20250309T100000
END:DAYLIGHT
BEGIN:STANDARD
TZOFFSETFROM:-0700
TZOFFSETTO:-0800
TZNAME:PST
DTSTART:20251102T090000
END:STANDARD
BEGIN:DAYLIGHT
TZOFFSETFROM:-0800
TZOFFSETTO:-0700
TZNAME:PDT
DTSTART:20260308T100000
END:DAYLIGHT
BEGIN:STANDARD
TZOFFSETFROM:-0700
TZOFFSETTO:-0800
TZNAME:PST
DTSTART:20261101T090000
END:STANDARD
BEGIN:DAYLIGHT
TZOFFSETFROM:-0800
TZOFFSETTO:-0700
TZNAME:PDT
DTSTART:20270314T100000
END:DAYLIGHT
BEGIN:STANDARD
TZOFFSETFROM:-0700
TZOFFSETTO:-0800
TZNAME:PST
DTSTART:20271107T090000
END:STANDARD
END:VTIMEZONE
BEGIN:VEVENT
DTSTART;VALUE=DATE:20260701
DTEND;VALUE=DATE:20260702
DTSTAMP:20260423T034501
CREATED:20250922T220907Z
LAST-MODIFIED:20250922T220907Z
UID:2891-1782864000-1782950399@www.wwcfl.org
SUMMARY:First Wednesday Wear Your Life Runner T-Shirt!
DESCRIPTION:If you run\, walk\, or simply want to wear your Life Runners T-Shirt to witness your support for life\, the Western Washington Chapter welcomes you! We wear our Life Runner T-shirt First Wednesday each month\, and feel free to wear your T-shirt any day to spread awareness for the sanctity of human life! \nTo join and purchase your Life Runners T-Shirt visit Life Runners and sign up for the Western Washington Chapter. Then please contact Chapter Leader\, Carol Thompson at 360-519-3916 to join or find a team nearest you!
URL:https://www.wwcfl.org/calendar/first-wednesday-wear-your-life-runner-t-shirt-10/
END:VEVENT
END:VCALENDAR