BEGIN:VCALENDAR
VERSION:2.0
PRODID:-//Western Washington Coalition for Life - ECPv6.15.17//NONSGML v1.0//EN
CALSCALE:GREGORIAN
METHOD:PUBLISH
X-WR-CALNAME:Western Washington Coalition for Life
X-ORIGINAL-URL:https://www.wwcfl.org
X-WR-CALDESC:Events for Western Washington Coalition for Life
REFRESH-INTERVAL;VALUE=DURATION:PT1H
X-Robots-Tag:noindex
X-PUBLISHED-TTL:PT1H
BEGIN:VTIMEZONE
TZID:America/Los_Angeles
BEGIN:DAYLIGHT
TZOFFSETFROM:-0800
TZOFFSETTO:-0700
TZNAME:PDT
DTSTART:20250309T100000
END:DAYLIGHT
BEGIN:STANDARD
TZOFFSETFROM:-0700
TZOFFSETTO:-0800
TZNAME:PST
DTSTART:20251102T090000
END:STANDARD
BEGIN:DAYLIGHT
TZOFFSETFROM:-0800
TZOFFSETTO:-0700
TZNAME:PDT
DTSTART:20260308T100000
END:DAYLIGHT
BEGIN:STANDARD
TZOFFSETFROM:-0700
TZOFFSETTO:-0800
TZNAME:PST
DTSTART:20261101T090000
END:STANDARD
BEGIN:DAYLIGHT
TZOFFSETFROM:-0800
TZOFFSETTO:-0700
TZNAME:PDT
DTSTART:20270314T100000
END:DAYLIGHT
BEGIN:STANDARD
TZOFFSETFROM:-0700
TZOFFSETTO:-0800
TZNAME:PST
DTSTART:20271107T090000
END:STANDARD
END:VTIMEZONE
BEGIN:VEVENT
DTSTART;VALUE=DATE:20260603
DTEND;VALUE=DATE:20260604
DTSTAMP:20260423T035425
CREATED:20250922T220700Z
LAST-MODIFIED:20250922T220700Z
UID:2889-1780444800-1780531199@www.wwcfl.org
SUMMARY:First Wednesday Wear Your Life Runner T-Shirt!
DESCRIPTION:If you run\, walk\, or simply want to wear your Life Runners T-Shirt to witness your support for life\, the Western Washington Chapter welcomes you! We wear our Life Runner T-shirt First Wednesday each month\, and feel free to wear your T-shirt any day to spread awareness for the sanctity of human life! \nTo join and purchase your Life Runners T-Shirt visit Life Runners and sign up for the Western Washington Chapter. Then please contact Chapter Leader\, Carol Thompson at 360-519-3916 to join or find a team nearest you!
URL:https://www.wwcfl.org/calendar/first-wednesday-wear-your-life-runner-t-shirt-9/
END:VEVENT
BEGIN:VEVENT
DTSTART;VALUE=DATE:20260701
DTEND;VALUE=DATE:20260702
DTSTAMP:20260423T035425
CREATED:20250922T220907Z
LAST-MODIFIED:20250922T220907Z
UID:2891-1782864000-1782950399@www.wwcfl.org
SUMMARY:First Wednesday Wear Your Life Runner T-Shirt!
DESCRIPTION:If you run\, walk\, or simply want to wear your Life Runners T-Shirt to witness your support for life\, the Western Washington Chapter welcomes you! We wear our Life Runner T-shirt First Wednesday each month\, and feel free to wear your T-shirt any day to spread awareness for the sanctity of human life! \nTo join and purchase your Life Runners T-Shirt visit Life Runners and sign up for the Western Washington Chapter. Then please contact Chapter Leader\, Carol Thompson at 360-519-3916 to join or find a team nearest you!
URL:https://www.wwcfl.org/calendar/first-wednesday-wear-your-life-runner-t-shirt-10/
END:VEVENT
BEGIN:VEVENT
DTSTART;TZID=America/Los_Angeles:20260715T170000
DTEND;TZID=America/Los_Angeles:20260715T180000
DTSTAMP:20260423T035425
CREATED:20250922T222248Z
LAST-MODIFIED:20250922T222248Z
UID:2905-1784134800-1784138400@www.wwcfl.org
SUMMARY:WWCFL Board Meeting
DESCRIPTION:WWCFL Board Meeting to be held virtually on GoToMeeting from 5-6 pm. Any interested in joining our organization please contact our Executive Director\, Tammy Carter at exec-dir@wwcfl.org or contact 253-514-o415
URL:https://www.wwcfl.org/calendar/wwcfl-board-meeting-5/
LOCATION:GoToMeeting
END:VEVENT
BEGIN:VEVENT
DTSTART;VALUE=DATE:20260805
DTEND;VALUE=DATE:20260806
DTSTAMP:20260423T035425
CREATED:20250922T221136Z
LAST-MODIFIED:20250922T221136Z
UID:2893-1785888000-1785974399@www.wwcfl.org
SUMMARY:First Wednesday Wear Your Life Runner T-Shirt!
DESCRIPTION:If you run\, walk\, or simply want to wear your Life Runners T-Shirt to witness your support for life\, the Western Washington Chapter welcomes you! We wear our Life Runner T-shirt First Wednesday each month\, and feel free to wear your T-shirt any day to spread awareness for the sanctity of human life! \nTo join and purchase your Life Runners T-Shirt visit Life Runners and sign up for the Western Washington Chapter. Then please contact Chapter Leader\, Carol Thompson at 360-519-3916 to join or find a team nearest you!
URL:https://www.wwcfl.org/calendar/first-wednesday-wear-your-life-runner-t-shirt-11/
END:VEVENT
BEGIN:VEVENT
DTSTART;VALUE=DATE:20260902
DTEND;VALUE=DATE:20260903
DTSTAMP:20260423T035425
CREATED:20250922T221313Z
LAST-MODIFIED:20250922T221313Z
UID:2895-1788307200-1788393599@www.wwcfl.org
SUMMARY:First Wednesday Wear Your Life Runner T-Shirt!
DESCRIPTION:If you run\, walk\, or simply want to wear your Life Runners T-Shirt to witness your support for life\, the Western Washington Chapter welcomes you! We wear our Life Runner T-shirt First Wednesday each month\, and feel free to wear your T-shirt any day to spread awareness for the sanctity of human life! \nTo join and purchase your Life Runners T-Shirt visit Life Runners and sign up for the Western Washington Chapter. Then please contact Chapter Leader\, Carol Thompson at 360-519-3916 to join or find a team nearest you!
URL:https://www.wwcfl.org/calendar/first-wednesday-wear-your-life-runner-t-shirt-12/
END:VEVENT
BEGIN:VEVENT
DTSTART;TZID=America/Los_Angeles:20260916T170000
DTEND;TZID=America/Los_Angeles:20260916T180000
DTSTAMP:20260423T035425
CREATED:20250922T222428Z
LAST-MODIFIED:20250922T222428Z
UID:2907-1789578000-1789581600@www.wwcfl.org
SUMMARY:WWCFL Board Meeting
DESCRIPTION:WWCFL Board Meeting to be held virtually on GoToMeeting from 5-6 pm. Any interested in joining our organization please contact our Executive Director\, Tammy Carter at exec-dir@wwcfl.org or contact 253-514-o415
URL:https://www.wwcfl.org/calendar/wwcfl-board-meeting-6/
LOCATION:GoToMeeting
END:VEVENT
END:VCALENDAR